BEGIN:VCALENDAR
VERSION:2.0
PRODID:-//MASS MoCA - ECPv4.7.3//NONSGML v1.0//EN
CALSCALE:GREGORIAN
METHOD:PUBLISH
X-WR-CALNAME:MASS MoCA
X-ORIGINAL-URL:https://massmoca.org
X-WR-CALDESC:Events for MASS MoCA
BEGIN:VEVENT
DTSTART;TZID=America/New_York:20210303T000000
DTEND;TZID=America/New_York:20300311T000000
DTSTAMP:20260420T140132
CREATED:20210113T195055Z
LAST-MODIFIED:20231127T220353Z
UID:39437-1614729600-1899417600@massmoca.org
SUMMARY:MASS MoCA From Home
DESCRIPTION:Can’t make it here in person? Join us on January 23 as we open the digital doors into our galleries and onto our stages with the launch of an online hub for all (virtual) things MASS MoCA. Explore the Sol LeWitt galleries with an all-new interactive 3D tour\, tune in to community pop-up performances (available to watch for only a limited time as we kick things off!)\, get your creative juices flowing with classic ArtBar specials\, and experience MASS MoCA in a way that’s almost as good as being here.\n
URL:https://massmoca.org/event/mass-moca-from-home/
CATEGORIES:Calendar Page
ATTACH;FMTTYPE=image/jpeg:https://massmoca.org/wp-content/uploads/2021/01/MMFromHome_19200x1920.jpg
END:VEVENT
BEGIN:VEVENT
DTSTART;TZID=America/New_York:20230103T080000
DTEND;TZID=America/New_York:20430103T170000
DTSTAMP:20260420T140132
CREATED:20200608T160105Z
LAST-MODIFIED:20260405T020259Z
UID:37231-1672732800-2303917200@massmoca.org
SUMMARY:Museum Admission Advance tickets recommended
DESCRIPTION:MUSEUM ADMISSION \nAdvance tickets are recommended for all museum visitors to skip the line. Walk-ups are always welcome. \nAdults: $25\nSeniors (65+) / Veterans: $22\nStudents with ID: $15\nKids (6-16): $10\nChildren 5 and under: FREE\nAdmission to Kidspace: FREE \nIn-person discounts are available\, check to see if you are eligible. \nFor museum hours and information on public tours\, click here. \nMASS MoCA MEMBERS\nMuseum admission is always free for MASS MoCA members; members can reserve their free admission tickets before arriving by logging in. \nNot yet a member? Become one here. \nJAMES TURRELL: INTO THE LIGHT\nInto the Light is a multi-decade retrospective of several James Turrell works. Advance reservations are required at no additional charge to view James Turrell’s Perfectly Clear and Hind Sight. Reservations are not required to view the other works on view in the exhibition. \nMake Perfectly Clear and Hind Sight reservations here. \nJAMES TURRELL: C.A.V.U. (Skyspace) \nJames Turrell’s C.A.V.U. is open during museum hours with no reservations required. The work is optimally experienced when the sun is just below the horizon—in the liminal period between day and night\, light and dark. Limited reservations to view at dawn and dusk are available on a rolling basis. \nCheck availability for dawn and dusk reservations. \nLAURIE ANDERSON\nLaurie Anderson continues to invite viewers to explore a multi-functional constellation of galleries and installations with an evolving rotation of works. Please note that Chalkroom and To the Moon virtual reality experiences have been retired. \nKIDSPACE\nKidspace\, MASS MoCA’s creative laboratory that inspires curiosity in the arts for all\, is always free with no reservations required. \nPUBLIC PROGRAMS\nMASS MoCA offers a variety of opportunities to deepen engagement with its visual and performing arts programming that are often included with gallery admission. View the calendar of events here. \nPERFORMING ARTS\, FESTIVALS AND SPECIAL EVENTS\nTickets for performances\, festivals and special events are not included with gallery admission and can be purchased from the event listings on our website. View the full calendar of events here. \nENJOY MASS MoCA & NORTH ADAMS\nNo visit to MASS MoCA is complete without checking out our artist-inspired retail stores and delicious food and drink options. See a full list here. \nAnd be sure to check out more art – including Martin Puryear’s monumental Big Bling sculpture – parks\, shops\, and restaurants throughout our beloved hometown\, North Adams\, MA. Learn more. \n  \n
URL:https://massmoca.org/event/museum-tickets/
LOCATION:MA\, United States
CATEGORIES:Calendar Page
ATTACH;FMTTYPE=image/jpeg:https://massmoca.org/wp-content/uploads/2020/05/RS28782_PH6A2704-scaled.jpg
END:VEVENT
BEGIN:VEVENT
DTSTART;TZID=America/New_York:20260102T080000
DTEND;TZID=America/New_York:20260102T170000
DTSTAMP:20260420T140132
CREATED:20250813T155153Z
LAST-MODIFIED:20260102T145458Z
UID:61287-1767340800-1767373200@massmoca.org
SUMMARY:School Break Kidspace Workshops
DESCRIPTION:Join MASS MoCA Museum Educators for a series of free workshops for all ages during the end-of-year school break\, December 29–January 2. Workshops will take place in Kidspace at 11am and 1pm every day\, and each will focus on a different art medium and process. Come be inspired\, learn something new\, and make a project to take home! The ArtBar will also be open for drop-in art-making throughout the day.\nRSVP encouraged but not required. (Note: Some workshops may be capped based on attendance; RSVPs will be honored before walk-ups.) Workshops are open to all ages; however\, younger children may need support from guardians. All children must be accompanied by an adult in Kidspace. \nSCHEDULE \nMonday\, December 29: Crafting Our Future with Nina Keneally and Erick Ramos-Jacobo\nInspired by the works of Jeffrey Gibson and Jimena Sarno\, this workshop transforms Kidspace into a site for performance and communal creation. Young performers will explore creative methods of community building through devised performance and visual art\, engaging in collective expression and collaboration. \nRSVP here. \nTuesday\, December 30: Cardboard Collagraph Printmaking with David Waxman\nIn this workshop young artists will explore the intersection of collage and printmaking. Through iterative experimentation with various media\, participants will embrace abstraction and the freedom to move beyond figurative forms. \nRSVP here. \nWednesday\, December 31: A Lesson in Painting with Donald Jackson\nGuided by the monumental works of Vincent Valdez\, this introductory workshop in color theory and form encourages young artists to experiment with foundational painting techniques. Through a hands-on exercise\, participants will uncover the expressive possibilities and contemporary relevance of painting. \nRSVP here. \nThursday\, January 1: Becoming a Weaver with Beth Davis\nInspired by Jimena Sarno’s curiosity for weaving\, this workshop invites students to create a simple working loom as a tool for ongoing creativity and learning. In the spirit of Sarno’s community of teachers\, learners\, and makers\, participants will take home a handmade loom for future exploration. \nRSVP here. \nFriday\, January 2: Building Zoetropes with Heidi Whitus\nRooted in MASS MoCA’s commitment to contemporary filmmaking\, this workshop introduces young artists to the early technology of moving images. Participants will build a handheld animation toy\, deepening their understanding of film through kinetic and imaginative learning. \nRSVP here. \n
URL:https://massmoca.org/event/school-break-kidspace-workshops-3/
LOCATION:MASS MoCA\, 1040 MASS MoCA Way\, North Adams\, MA\, 01247\, United States
GEO:42.7022586;-73.1162555
X-APPLE-STRUCTURED-LOCATION;VALUE=URI;X-ADDRESS=MASS MoCA 1040 MASS MoCA Way North Adams MA 01247 United States;X-APPLE-RADIUS=500;X-TITLE=1040 MASS MoCA Way:geo:-73.1162555,42.7022586
CATEGORIES:Fall 2025,Homepage,Kidspace,Public Program
ATTACH;FMTTYPE=image/jpeg:https://massmoca.org/wp-content/uploads/2025/08/Webcuts_FA25_School-Break-Kidspace-Workshops_1920-x-1920.jpg
END:VEVENT
END:VCALENDAR